Workbook

Sheet Formulaire
C8: nom de la formation | D8: Le rôle du buddy: maintenir le lien face au stress et au burn-out
C10: choix de l'organisme de formation* | D10: sélectionner
C12: nom de la maison de repos et de soins
C14: rue et numéro
C16: code postal
C18: localité
C20: numéro ONSS (xxx-xxxxxxx-xx)
C22: nom de la personne de contact
C24: adresse e-mail de la personne de contact
C26: numéro de téléphone de la personne de contact
C27: * Pour les séances d’accompagnement en ligne, nous tenons compte autant que possible de votre préférence pour un opérateur de formation déterminé. Afin de garantir une organisation fluide des formations, le Fonds peut, si nécessaire, vous attribuer un autre opérateur de formation.
D28: Envoyez le formulaire complètement rempli à | E28: formationpersonnesagees@fe-bi.org
B30: Données des participant·e·s
C31: prénom | D31: nom de famille | E31: adresse e-mail | F31: fonction | G31: genre | H31: date de naissance (jj/mm/aaaa) | I31: diplôme le plus élevé | J31: cette personne a-t-elle déjà un accès LearnAction ?
B32: 1 | F32: sélectionner | G32: sélectionner | I32: sélectionner | J32: sélectionner
B33: 2 | F33: sélectionner | G33: sélectionner | I33: sélectionner | J33: sélectionner
B34: 3 | F34: sélectionner | G34: sélectionner | I34: sélectionner | J34: sélectionner
B35: 4 | F35: sélectionner | G35: sélectionner | I35: sélectionner | J35: sélectionner
B36: 5 | F36: sélectionner | G36: sélectionner | I36: sélectionner | J36: sélectionner
B37: 6 | F37: sélectionner | G37: sélectionner | I37: sélectionner | J37: sélectionner
B38: 7 | F38: sélectionner | G38: sélectionner | I38: sélectionner | J38: sélectionner
B39: 8 | F39: sélectionner | G39: sélectionner | I39: sélectionner | J39: sélectionner

Sheet LearnAction
A2: # | B2: Login | C2: Email | D2: Firstname | E2: Lastname | F2: Branch | G2: User-type | H2: Fonds | I2: Fonction | J2: Niveau d'études | K2: Date de naissance | L2: Nom de votre organisation | M2: Nom et numéro de la rue de votre organisation | N2: Code postal de votre organisation | O2: Localité de votre organisation
A3: 1 | B3: =Formulaire!E32 -> 0 | C3: =Formulaire!E32 -> 0 | D3: =Formulaire!C32 -> 0 | E3: =Formulaire!D32 -> 0 | F3: dnab | G3: Learner-Type | H3: Secteur Soins aux personnes âgées | I3: =Formulaire!F32 -> sélectionner | J3: =Formulaire!I32 -> sélectionner | K3: =Formulaire!H32 -> 0 | L3: =Formulaire!$D$12 -> 0 | M3: =Formulaire!$D$14 -> 0 | N3: =Formulaire!$D$16 -> 0 | O3: =Formulaire!$D$18 -> 0
A4: 2 | B4: =Formulaire!E33 -> 0 | C4: =Formulaire!E33 -> 0 | D4: =Formulaire!C33 -> 0 | E4: =Formulaire!D33 -> 0 | F4: dnab | G4: Learner-Type | H4: Secteur Soins aux personnes âgées | I4: =Formulaire!F33 -> sélectionner | J4: =Formulaire!I33 -> sélectionner | K4: =Formulaire!H33 -> 0 | L4: =Formulaire!$D$12 -> 0 | M4: =Formulaire!$D$14 -> 0 | N4: =Formulaire!$D$16 -> 0 | O4: =Formulaire!$D$18 -> 0
A5: 3 | B5: =Formulaire!E34 -> 0 | C5: =Formulaire!E34 -> 0 | D5: =Formulaire!C34 -> 0 | E5: =Formulaire!D34 -> 0 | F5: dnab | G5: Learner-Type | H5: Secteur Soins aux personnes âgées | I5: =Formulaire!F34 -> sélectionner | J5: =Formulaire!I34 -> sélectionner | K5: =Formulaire!H34 -> 0 | L5: =Formulaire!$D$12 -> 0 | M5: =Formulaire!$D$14 -> 0 | N5: =Formulaire!$D$16 -> 0 | O5: =Formulaire!$D$18 -> 0
A6: 4 | B6: =Formulaire!E35 -> 0 | C6: =Formulaire!E35 -> 0 | D6: =Formulaire!C35 -> 0 | E6: =Formulaire!D35 -> 0 | F6: dnab | G6: Learner-Type | H6: Secteur Soins aux personnes âgées | I6: =Formulaire!F35 -> sélectionner | J6: =Formulaire!I35 -> sélectionner | K6: =Formulaire!H35 -> 0 | L6: =Formulaire!$D$12 -> 0 | M6: =Formulaire!$D$14 -> 0 | N6: =Formulaire!$D$16 -> 0 | O6: =Formulaire!$D$18 -> 0
A7: 5 | B7: =Formulaire!E36 -> 0 | C7: =Formulaire!E36 -> 0 | D7: =Formulaire!C36 -> 0 | E7: =Formulaire!D36 -> 0 | F7: dnab | G7: Learner-Type | H7: Secteur Soins aux personnes âgées | I7: =Formulaire!F36 -> sélectionner | J7: =Formulaire!I36 -> sélectionner | K7: =Formulaire!H36 -> 0 | L7: =Formulaire!$D$12 -> 0 | M7: =Formulaire!$D$14 -> 0 | N7: =Formulaire!$D$16 -> 0 | O7: =Formulaire!$D$18 -> 0
A8: 6 | B8: =Formulaire!E37 -> 0 | C8: =Formulaire!E37 -> 0 | D8: =Formulaire!C37 -> 0 | E8: =Formulaire!D37 -> 0 | F8: dnab | G8: Learner-Type | H8: Secteur Soins aux personnes âgées | I8: =Formulaire!F37 -> sélectionner | J8: =Formulaire!I37 -> sélectionner | K8: =Formulaire!H37 -> 0 | L8: =Formulaire!$D$12 -> 0 | M8: =Formulaire!$D$14 -> 0 | N8: =Formulaire!$D$16 -> 0 | O8: =Formulaire!$D$18 -> 0
A9: 7 | B9: =Formulaire!E38 -> 0 | C9: =Formulaire!E38 -> 0 | D9: =Formulaire!C38 -> 0 | E9: =Formulaire!D38 -> 0 | F9: dnab | G9: Learner-Type | H9: Secteur Soins aux personnes âgées | I9: =Formulaire!F38 -> sélectionner | J9: =Formulaire!I38 -> sélectionner | K9: =Formulaire!H38 -> 0 | L9: =Formulaire!$D$12 -> 0 | M9: =Formulaire!$D$14 -> 0 | N9: =Formulaire!$D$16 -> 0 | O9: =Formulaire!$D$18 -> 0
A10: 8 | B10: =Formulaire!E39 -> 0 | C10: =Formulaire!E39 -> 0 | D10: =Formulaire!C39 -> 0 | E10: =Formulaire!D39 -> 0 | F10: dnab | G10: Learner-Type | H10: Secteur Soins aux personnes âgées | I10: =Formulaire!F39 -> sélectionner | J10: =Formulaire!I39 -> sélectionner | K10: =Formulaire!H39 -> 0 | L10: =Formulaire!$D$12 -> 0 | M10: =Formulaire!$D$14 -> 0 | N10: =Formulaire!$D$16 -> 0 | O10: =Formulaire!$D$18 -> 0

Sheet data
A2: Secteur Hôpitaux
A3: Secteur Soins aux personnes âgées
A4: Secteur Établissements et services de santé
A5: Secteur Établissements d'éducation et d'hébergement
A6: Secteur Fonds social complémentaire Non-Profit (337)
A7: Secteur Soins infirmiers à domicile
A8: Secteur Centres de revalidation
A9: Je ne sais pas
A11: Pas de diplôme
A12: CESS
A13: Bachelier
A14: Master
... A45: Non
